BEGIN:VCALENDAR
VERSION:2.0
PRODID:icalendar-ruby
CALSCALE:GREGORIAN
METHOD:PUBLISH
BEGIN:VEVENT
DTSTAMP:20260420T132050Z
UID:20-158277@allianceberean.com
DTSTART:20250824T163000Z
DTEND:20250824T173000Z
CLASS:PUBLIC
CREATED:20250801T092506
DESCRIPTION:
LAST-MODIFIED:20250801T092506
LOCATION:
SUMMARY:Worship Service
URL;VALUE=URI:https://allianceberean.com/events/worship-service--20/2025-08
 -24
ATTACH;FILENAME=thumbnail_IMG_7675.jpg;FMTTYPE=image/jpeg:https://dq5pwpg1q
 8ru0.cloudfront.net/2025/06/24/15/19/18/dbdcada6-6994-4d0a-8107-1320a7e946
 91/thumbnail_IMG_7675.jpg
END:VEVENT
END:VCALENDAR
