BEGIN:VCALENDAR
VERSION:2.0
PRODID:icalendar-ruby
CALSCALE:GREGORIAN
METHOD:PUBLISH
BEGIN:VEVENT
DTSTAMP:20260421T092715Z
UID:21-237931@allianceberean.com
DTSTART:20251127T010000Z
DTEND:20251127T024500Z
CLASS:PUBLIC
CREATED:20260420T190906
DESCRIPTION:
LAST-MODIFIED:20260420T190906
LOCATION:Alliance Berean Church 
SUMMARY:Youth Group | Grades 6-12
URL;VALUE=URI:https://allianceberean.com/events/youth-group-grades-6-12/202
 5-11-26
ATTACH;FILENAME=Website-Thumbnail.jpg;FMTTYPE=image/jpeg:https://dq5pwpg1q8
 ru0.cloudfront.net/2025/09/18/15/55/17/1a55ab9b-c264-4a74-b986-46861464b77
 7/Website-Thumbnail.jpg
END:VEVENT
END:VCALENDAR
