BEGIN:VCALENDAR
VERSION:2.0
PRODID:icalendar-ruby
CALSCALE:GREGORIAN
METHOD:PUBLISH
BEGIN:VEVENT
DTSTAMP:20260426T041136Z
UID:21-241062@allianceberean.com
DTSTART:20261126T010000Z
DTEND:20261126T024500Z
CLASS:PUBLIC
CREATED:20260425T194745
DESCRIPTION:
LAST-MODIFIED:20260425T194745
LOCATION:Alliance Berean Church 
SUMMARY:Youth Group | Grades 6-12
URL;VALUE=URI:https://allianceberean.com/events/youth-group-grades-6-12/202
 6-11-25
ATTACH;FILENAME=Website-Thumbnail.jpg;FMTTYPE=image/jpeg:https://dq5pwpg1q8
 ru0.cloudfront.net/2025/09/18/15/55/17/1a55ab9b-c264-4a74-b986-46861464b77
 7/Website-Thumbnail.jpg
END:VEVENT
END:VCALENDAR
